BEGIN:VCALENDAR
VERSION:2.0
PRODID:-//Israel Tennis &amp; Education Centers - ECPv6.15.20//NONSGML v1.0//EN
CALSCALE:GREGORIAN
METHOD:PUBLISH
X-WR-CALNAME:Israel Tennis &amp; Education Centers
X-ORIGINAL-URL:https://itecenters.org
X-WR-CALDESC:Events for Israel Tennis &amp; Education Centers
REFRESH-INTERVAL;VALUE=DURATION:PT1H
X-Robots-Tag:noindex
X-PUBLISHED-TTL:PT1H
BEGIN:VTIMEZONE
TZID:America/New_York
BEGIN:DAYLIGHT
TZOFFSETFROM:-0500
TZOFFSETTO:-0400
TZNAME:EDT
DTSTART:20250309T070000
END:DAYLIGHT
BEGIN:STANDARD
TZOFFSETFROM:-0400
TZOFFSETTO:-0500
TZNAME:EST
DTSTART:20251102T060000
END:STANDARD
BEGIN:DAYLIGHT
TZOFFSETFROM:-0500
TZOFFSETTO:-0400
TZNAME:EDT
DTSTART:20260308T070000
END:DAYLIGHT
BEGIN:STANDARD
TZOFFSETFROM:-0400
TZOFFSETTO:-0500
TZNAME:EST
DTSTART:20261101T060000
END:STANDARD
BEGIN:DAYLIGHT
TZOFFSETFROM:-0500
TZOFFSETTO:-0400
TZNAME:EDT
DTSTART:20270314T070000
END:DAYLIGHT
BEGIN:STANDARD
TZOFFSETFROM:-0400
TZOFFSETTO:-0500
TZNAME:EST
DTSTART:20271107T060000
END:STANDARD
END:VTIMEZONE
BEGIN:VEVENT
DTSTART;TZID=America/New_York:20260603T120000
DTEND;TZID=America/New_York:20260603T140000
DTSTAMP:20260423T055840
CREATED:20260421T144544Z
LAST-MODIFIED:20260421T215028Z
UID:10000197-1780488000-1780495200@itecenters.org
SUMMARY:Ethiopian Coffee Ceremony
DESCRIPTION:Led by acclaimed chef Beejhy Barhany\, ITEC invites you to join us for this immersive experience\, as we slow down and engage in one of Ethiopia’s most cherished traditions. Together\, we’ll witness the centuries-old ritual of coffee roasting\, brewing\, and sharing\, set within Tsion Cafe—a beloved cultural hub rooted in Harlem’s rich artistic and social history. \nMore than just an event\, this is a moment to come together in community\, honor tradition\, and experience the beauty of Ethiopian-Jewish culture in a meaningful and memorable way. \nPlease note that space is limited to ensure an intimate\, meaningful experience. Each ticket is a tax-deductible donation to support ITEC’s work. \nSign Up
URL:https://itecenters.org/events/ethiopian-coffee-ceremony/
LOCATION:Florida
CATEGORIES:Company Event
END:VEVENT
BEGIN:VEVENT
DTSTART;VALUE=DATE:20260622
DTEND;VALUE=DATE:20260623
DTSTAMP:20260423T055840
CREATED:20260203T193706Z
LAST-MODIFIED:20260203T193706Z
UID:10000192-1782086400-1782172799@itecenters.org
SUMMARY:Toronto Golf Tournament
DESCRIPTION:For more information\, contact: Amy Harrington\, aharrington@itecenters.org
URL:https://itecenters.org/events/toronto-golf-tournament/
LOCATION:Florida
END:VEVENT
BEGIN:VEVENT
DTSTART;VALUE=DATE:20260724
DTEND;VALUE=DATE:20260727
DTSTAMP:20260423T055840
CREATED:20260121T195201Z
LAST-MODIFIED:20260121T195201Z
UID:10000187-1784851200-1785110399@itecenters.org
SUMMARY:Berkshires Weekend
DESCRIPTION:For more information\, contact: Ariel Milewicz\, amilewicz@itecenters.org
URL:https://itecenters.org/events/berkshires-weekend/
LOCATION:Florida
END:VEVENT
BEGIN:VEVENT
DTSTART;TZID=America/New_York:20261208T183000
DTEND;TZID=America/New_York:20261208T213000
DTSTAMP:20260423T055840
CREATED:20260421T144632Z
LAST-MODIFIED:20260421T144632Z
UID:10000198-1796754600-1796765400@itecenters.org
SUMMARY:NY 50th Anniversary Gala
DESCRIPTION:
URL:https://itecenters.org/events/ny-50th-anniversary-gala/
LOCATION:Florida
CATEGORIES:Company Event
END:VEVENT
END:VCALENDAR